BEGIN:VCALENDAR
VERSION:2.0
PRODID:-//TYPO3/NONSGML Calendarize//EN
BEGIN:VEVENT
UID:calendarize-sitzung-der-kreistagsfraktion-3-20260428
DTSTAMP:20260423T041330Z
DTSTART:20260428T160000Z
DTEND:20260428T180000Z
SUMMARY:Sitzung der Kreistagsfraktion
DESCRIPTION:
X-ALT-DESC;FMTTYPE=text/html:
LOCATION:Online
END:VEVENT
END:VCALENDAR
