BEGIN:VCALENDAR
VERSION:2.0
PRODID:-//TYPO3/NONSGML Calendarize//EN
BEGIN:VEVENT
UID:calendarize-kreisvorstand-marburg-biedenkopf-20260427
DTSTAMP:20260423T043032Z
DTSTART:20260427T161500Z
SUMMARY:Kreisvorstand Marburg-Biedenkopf
DESCRIPTION:Präsenzsitzung
X-ALT-DESC;FMTTYPE=text/html:<p>Präsenzsitzung</p>
LOCATION:Kreisgeschäftsstelle, Frankfurter Str. 46, 35037 Marburg
END:VEVENT
END:VCALENDAR
