BEGIN:VCALENDAR
VERSION:2.0
PRODID:-//TYPO3/NONSGML Calendarize//EN
BEGIN:VEVENT
UID:calendarize-kreismitgliederversammlung-kmv-marburg-biedenkopf-20260507
DTSTAMP:20260423T041031Z
DTSTART:20260507T170000Z
DTEND:20260507T200000Z
SUMMARY:Kreismitgliederversammlung (KMV) Marburg-Biedenkopf
DESCRIPTION:anschließend Umtrunk
X-ALT-DESC;FMTTYPE=text/html:<p>anschließend Umtrunk</p>
LOCATION:Geschäftsstelle Marburg und online
END:VEVENT
END:VCALENDAR
