BEGIN:VCALENDAR
VERSION:2.0
PRODID:-//TYPO3/NONSGML Calendarize//EN
BEGIN:VEVENT
UID:calendarize-infostand-am-europatag-20260509
DTSTAMP:20260423T042336Z
DTSTART:20260509T120000Z
DTEND:20260509T150000Z
SUMMARY:Infostand am Europatag
DESCRIPTION:Von 14 bis 17 Uhr präsentieren wir uns beim Europatag von Pul
 se of Europe mit einem Infostand auf dem Marktplatz in Marburg
X-ALT-DESC;FMTTYPE=text/html:<p>Von 14 bis 17 Uhr präsentieren wir uns be
 im Europatag von Pulse of Europe mit einem Infostand auf dem Marktplatz in
  Marburg</p>
LOCATION:Marktplatz Marburg
END:VEVENT
END:VCALENDAR
